BEGIN:VCALENDAR
VERSION:2.0
PRODID:-//Escuela Nautica Cabo Mayor - ECPv6.11.2//NONSGML v1.0//EN
CALSCALE:GREGORIAN
METHOD:PUBLISH
X-WR-CALNAME:Escuela Nautica Cabo Mayor
X-ORIGINAL-URL:https://www.escuelanauticacabomayor.es
X-WR-CALDESC:Eventos para Escuela Nautica Cabo Mayor
REFRESH-INTERVAL;VALUE=DURATION:PT1H
X-Robots-Tag:noindex
X-PUBLISHED-TTL:PT1H
BEGIN:VTIMEZONE
TZID:Europe/Madrid
BEGIN:DAYLIGHT
TZOFFSETFROM:+0100
TZOFFSETTO:+0200
TZNAME:CEST
DTSTART:20260329T010000
END:DAYLIGHT
BEGIN:STANDARD
TZOFFSETFROM:+0200
TZOFFSETTO:+0100
TZNAME:CET
DTSTART:20261025T010000
END:STANDARD
END:VTIMEZONE
BEGIN:VEVENT
DTSTART;TZID=Europe/Madrid:20260423T093000
DTEND;TZID=Europe/Madrid:20260423T133000
DTSTAMP:20260420T021328
CREATED:20210623T074929Z
LAST-MODIFIED:20260325T184112Z
UID:3412-1776936600-1776951000@www.escuelanauticacabomayor.es
SUMMARY:Licencia de Navegación - SANTANDER
DESCRIPTION:Condiciones generales de venta y cancelación – Prácticas de titulaciones náuticas de recreo \nLos horarios de las prácticas son orientativos y podrán sufrir ligeras modificaciones en función de las condiciones meteorológicas previstas para los días de navegación\, con el fin de garantizar la seguridad y el correcto desarrollo de la actividad. \nTodas las salidas están sujetas a la formación de un grupo mínimo de participantes. En caso de no alcanzarse dicho número\, la organización se reserva el derecho de reprogramar la actividad o cancelarla\, informando previamente a los participantes. \nSi las condiciones meteorológicas o del estado de la mar no permiten realizar las prácticas con las debidas garantías de seguridad\, se notificará a los participantes con la mayor antelación posible. En estos casos\, se ofrecerá la posibilidad de modificar la reserva a nuevas fechas disponibles o\, si no fuera posible\, se procederá a la cancelación de la misma con la correspondiente devolución del importe abonado. \nEntre 72 y 48 horas antes de cada salida\, se enviará un correo electrónico a cada participante con todos los detalles relativos a la práctica (horarios definitivos\, punto de encuentro\, recomendaciones\, etc.). \nEl importe de las prácticas deberá estar abonado antes del día de salida\, siguiendo las instrucciones facilitadas en el mencionado correo electrónico. El incumplimiento de este requisito podrá suponer la pérdida de la plaza reservada.
URL:https://www.escuelanauticacabomayor.es/evento/licencia-de-navegacion-santander-6/
CATEGORIES:licencia navegacion titulin
ATTACH;FMTTYPE=image/jpeg:https://www.escuelanauticacabomayor.es/wp-content/uploads/2021/12/COX06354-min-scaled.jpg
END:VEVENT
BEGIN:VEVENT
DTSTART;VALUE=DATE:20260424
DTEND;VALUE=DATE:20260427
DTSTAMP:20260420T021328
CREATED:20191214T095417Z
LAST-MODIFIED:20260103T094248Z
UID:2361-1776988800-1777247999@www.escuelanauticacabomayor.es
SUMMARY:Prácticas 48 horas navegación Patrón/Capitán de Yate
DESCRIPTION:48 horas de prácticas de navegación\nPrácticas obligatorias para la obtención de la titulación de Patrón de Yate y Capitán de Yate. \nSalida desde Marina del Canatabrico (Santander) \n 
URL:https://www.escuelanauticacabomayor.es/evento/practicas-navegacion-patron-de-yate/
END:VEVENT
END:VCALENDAR